BEGIN:VCALENDAR
VERSION:2.0
PRODID:-//Caregivers Connected Gateshead - ECPv6.15.20//NONSGML v1.0//EN
CALSCALE:GREGORIAN
METHOD:PUBLISH
X-ORIGINAL-URL:https://caregiversconnectedgateshead.co.uk
X-WR-CALDESC:Events for Caregivers Connected Gateshead
REFRESH-INTERVAL;VALUE=DURATION:PT1H
X-Robots-Tag:noindex
X-PUBLISHED-TTL:PT1H
BEGIN:VTIMEZONE
TZID:UTC
BEGIN:STANDARD
TZOFFSETFROM:+0000
TZOFFSETTO:+0000
TZNAME:UTC
DTSTART:20250101T000000
END:STANDARD
END:VTIMEZONE
BEGIN:VEVENT
DTSTART;TZID=UTC:20260302T130000
DTEND;TZID=UTC:20260302T150000
DTSTAMP:20260422T112428
CREATED:20260114T114051Z
LAST-MODIFIED:20260114T114051Z
UID:1497-1772456400-1772463600@caregiversconnectedgateshead.co.uk
SUMMARY:Crafted with Care
DESCRIPTION:Join us in the Metrocentre Community Hub for a fantastic crafternoon! Our Crafted with Care group gives local caregivers a chance to meet\, chat and make some fab craft pieces to take home. \nEvery session is designed to give caregivers a short break from their caring role\, while making new friends and learning new arts and crafts skills. \n  \nIf you’re caring for a friend or family member\, we’d love to see you at our session! \nBeginners welcome! This is a drop-in session so please do pop in and stay for as long as you’d like. Please be sure to bring your own refreshments to the session.
URL:https://caregiversconnectedgateshead.co.uk/event/crafted-with-care-march-2026/
LOCATION:Metrocentre Community Hub\, (upper green mall)\, Gateshead\, NE11 9YG\, United Kingdom
CATEGORIES:Adult Caregivers
ATTACH;FMTTYPE=image/png:https://caregiversconnectedgateshead.co.uk/wp-content/uploads/2025/07/carer-groups.png
ORGANIZER;CN="Caregivers Connected Gateshead":MAILTO:info@caregiversconnectedgateshead.co.uk
END:VEVENT
END:VCALENDAR