BEGIN:VCALENDAR
VERSION:2.0
PRODID:-//Caregivers Connected Gateshead - ECPv6.15.20//NONSGML v1.0//EN
CALSCALE:GREGORIAN
METHOD:PUBLISH
X-ORIGINAL-URL:https://caregiversconnectedgateshead.co.uk
X-WR-CALDESC:Events for Caregivers Connected Gateshead
REFRESH-INTERVAL;VALUE=DURATION:PT1H
X-Robots-Tag:noindex
X-PUBLISHED-TTL:PT1H
BEGIN:VTIMEZONE
TZID:UTC
BEGIN:STANDARD
TZOFFSETFROM:+0000
TZOFFSETTO:+0000
TZNAME:UTC
DTSTART:20250101T000000
END:STANDARD
END:VTIMEZONE
BEGIN:VEVENT
DTSTART;TZID=UTC:20260408T100000
DTEND;TZID=UTC:20260408T120000
DTSTAMP:20260422T100013
CREATED:20260319T101117Z
LAST-MODIFIED:20260319T101117Z
UID:1686-1775642400-1775649600@caregiversconnectedgateshead.co.uk
SUMMARY:Carer's Coffee Morning
DESCRIPTION:Fancy a cuppa? Join us and local carers at Age UK Gateshead (on Gateshead High Street) for a fantastic coffee morning! \nAs well as tea and coffee\, there will be the opportunity to meet other caregivers and staff from Caregivers Connected Gateshead to ask any questions and seek advice. \nIf you care for someone\, we’d love to see you on the 8th March 2026 ☕
URL:https://caregiversconnectedgateshead.co.uk/event/carers-coffee-morning-apr-2026/
LOCATION:Age UK – Gateshead High Street\, 215 High Street\, Gateshead\, NE8 1BX\, United Kingdom
CATEGORIES:Adult Caregivers
ATTACH;FMTTYPE=image/jpeg:https://caregiversconnectedgateshead.co.uk/wp-content/uploads/2025/09/Carers-Coffee-Morning-Group-e1762423533654.jpeg
ORGANIZER;CN="Caregivers Connected Gateshead":MAILTO:info@caregiversconnectedgateshead.co.uk
END:VEVENT
BEGIN:VEVENT
DTSTART;TZID=UTC:20260408T100000
DTEND;TZID=UTC:20260408T160000
DTSTAMP:20260422T100013
CREATED:20260225T160541Z
LAST-MODIFIED:20260225T160628Z
UID:1645-1775642400-1775664000@caregiversconnectedgateshead.co.uk
SUMMARY:Beamish visit (8-12 year olds)
DESCRIPTION:Join us for an exciting trip to Beamish\, the Living Museum of the North! Step back in time and experience what life was like in North East England in the 1820s\, 1900s\, 1940s and 1950s. This trip is specially designed for children aged 8-12\, offering a blend of fun and learning. \n  \nDate: Tuesday 8th April 2026\nTime: 10am – 4pm\nMeeting Point: Gateshead Interchange\nTravel: Transport will be provided to and from Beamish Museum from Gateshead Interchange. \nWho can join? This activity is for young carers aged 8 -12 years old. \n  \nWhat to Bring:\n \n\nPacked lunch and drinks\n\nComfortable shoes\n\nWeather-appropriate clothing (the museum is mostly outdoors)\n\n  \nSpaces are limited. If you would like to join the fun\, please let us know by completing the form below to reserve your place. \n\n\n                \n                        \n                            Young Carers Group - Expression of Interest Form\n                             \n                        \n        \n        	Step 1 of 4\n        	 \n            \n                25%\n            \n                        \n					Who are you?(Required)I am a young carerI am enquiring on behalf of a young carer\n                    \n                    \n                          \n                    \n                \n                \n                    \n                        Your Name(Required)\n                            \n                            \n                                                    \n                                                    First Name\n                                                \n                            \n                            \n                                                    \n                                                    Last Name\n                                                \n                            \n                        Your Email Address\n                            \n                        Your Phone Number(Required)Date of Birth(Required)\n                            \n                            MM slash DD slash YYYY\n                        \n                        Young Carer's Date of Birth\n                    \n                    \n                          \n                    \n                \n                \n                    \n                        Young Carer Name(Required)\n                            \n                            \n                                                    \n                                                    First Name\n                                                \n                            \n                            \n                                                    \n                                                    Last Name\n                                                \n                            \n                        Young Carer Phone NumberYoung Carer's Date of Birth(Required)\n                            \n                            MM slash DD slash YYYY\n                        \n                        Additional notesPlease use this space to let us know if there's anything else we need to be aware of regarding the young carer attending the session.\n                    \n                    \n                          \n                    \n                \n                \n                    \n                        What group or session would you like to take part in?(Required)Please select a session22.04.2026 | Cookery Course 1 (13+)25.04.2026 | Cinema Trip29.04.2026 | Cookery Course 2 (13+)02.05.2026 | Whickham Thorns (13+)06.05.2026 | Cookery Course 3 (13+)13.05.2026 | Cookery Course 4 (13+)20.05.2026 | Cookery Course 5 (13+)Please tick the box below to confirm that the person attending the correct age to attend.\n								\n								I confirm that the person attending is correct age to attend the session.\n							Would you like to receive an email copy of your responses to this form?(Required)YesNo
URL:https://caregiversconnectedgateshead.co.uk/event/beamish-visit-8-12-year-olds/
LOCATION:Beamish Museum\, Beamish Museum\, Stanley\, DH9 0RG
CATEGORIES:8 - 12 year olds,Young Carers
ATTACH;FMTTYPE=image/png:https://caregiversconnectedgateshead.co.uk/wp-content/uploads/2026/02/Beamish.png
ORGANIZER;CN="Caregivers Connected Gateshead":MAILTO:info@caregiversconnectedgateshead.co.uk
END:VEVENT
END:VCALENDAR