BEGIN:VCALENDAR
VERSION:2.0
PRODID:-//Caregivers Connected Gateshead - ECPv6.15.20//NONSGML v1.0//EN
CALSCALE:GREGORIAN
METHOD:PUBLISH
X-WR-CALNAME:Caregivers Connected Gateshead
X-ORIGINAL-URL:https://caregiversconnectedgateshead.co.uk
X-WR-CALDESC:Events for Caregivers Connected Gateshead
REFRESH-INTERVAL;VALUE=DURATION:PT1H
X-Robots-Tag:noindex
X-PUBLISHED-TTL:PT1H
BEGIN:VTIMEZONE
TZID:UTC
BEGIN:STANDARD
TZOFFSETFROM:+0000
TZOFFSETTO:+0000
TZNAME:UTC
DTSTART:20250101T000000
END:STANDARD
END:VTIMEZONE
BEGIN:VEVENT
DTSTART;TZID=UTC:20260414T123000
DTEND;TZID=UTC:20260414T143000
DTSTAMP:20260422T083118
CREATED:20260306T104849Z
LAST-MODIFIED:20260306T104849Z
UID:1660-1776169800-1776177000@caregiversconnectedgateshead.co.uk
SUMMARY:Cookery and Crafts (5-7 year olds)
DESCRIPTION:Join us for an exciting Easter cookery and crafts session for young carers. We’ll be making and decorating cupcakes and also taking on some fun crafting activities. \n  \nDate: Tuesday 14th April 2026\nTime: 12:30m – 2:30pm\nMeeting Point: Lobley Hill Children’s Centre (view on Google Maps) \nWho can join? This activity is for young carers aged 5 -7 years old. \n  \nSpaces are limited. If you would like to join the fun\, please let us know by completing the form below to reserve your place. \n\n\n                \n                        \n                            Young Carers Group - Expression of Interest Form\n                             \n                        \n        \n        	Step 1 of 4\n        	 \n            \n                25%\n            \n                        \n					Who are you?(Required)I am a young carerI am enquiring on behalf of a young carer\n                    \n                    \n                          \n                    \n                \n                \n                    \n                        Your Name(Required)\n                            \n                            \n                                                    \n                                                    First Name\n                                                \n                            \n                            \n                                                    \n                                                    Last Name\n                                                \n                            \n                        Your Email Address\n                            \n                        Your Phone Number(Required)Date of Birth(Required)\n                            \n                            MM slash DD slash YYYY\n                        \n                        Young Carer's Date of Birth\n                    \n                    \n                          \n                    \n                \n                \n                    \n                        Young Carer Name(Required)\n                            \n                            \n                                                    \n                                                    First Name\n                                                \n                            \n                            \n                                                    \n                                                    Last Name\n                                                \n                            \n                        Young Carer Phone NumberYoung Carer's Date of Birth(Required)\n                            \n                            MM slash DD slash YYYY\n                        \n                        Additional notesPlease use this space to let us know if there's anything else we need to be aware of regarding the young carer attending the session.\n                    \n                    \n                          \n                    \n                \n                \n                    \n                        What group or session would you like to take part in?(Required)Please select a session22.04.2026 | Cookery Course 1 (13+)25.04.2026 | Cinema Trip29.04.2026 | Cookery Course 2 (13+)02.05.2026 | Whickham Thorns (13+)06.05.2026 | Cookery Course 3 (13+)13.05.2026 | Cookery Course 4 (13+)20.05.2026 | Cookery Course 5 (13+)Please tick the box below to confirm that the person attending the correct age to attend.\n								\n								I confirm that the person attending is correct age to attend the session.\n							Would you like to receive an email copy of your responses to this form?(Required)YesNo
URL:https://caregiversconnectedgateshead.co.uk/event/cookery-and-crafts-5-7/
LOCATION:Lobley Hill Children’s Centre\, Lobley Hill Road (connected to the Lobley Hill Clinic building)\, Gateshead\, Lobley Hill\, NE11 0AL\, United Kingdom
CATEGORIES:5 - 7 year olds,Young Carers
ATTACH;FMTTYPE=image/png:https://caregiversconnectedgateshead.co.uk/wp-content/uploads/2026/03/cookery-and-crafts-yc.png
ORGANIZER;CN="Caregivers Connected Gateshead":MAILTO:info@caregiversconnectedgateshead.co.uk
END:VEVENT
BEGIN:VEVENT
DTSTART;TZID=UTC:20260414T130000
DTEND;TZID=UTC:20260414T153000
DTSTAMP:20260422T083118
CREATED:20260331T141239Z
LAST-MODIFIED:20260331T141300Z
UID:1759-1776171600-1776180600@caregiversconnectedgateshead.co.uk
SUMMARY:Sporting Memories Group
DESCRIPTION:Love sport? Join our Sporting Memories sessions in Dunston! \nWe offer an age-friendly and dementia-friendly session that welcomes both caregivers and the people they care for to a fun fortnightly session around reminiscing\, replaying and reconnecting with sports. \n  \nThis is a fantastic forum to chat about sport\, covering everything from the Olympic Games to England’s 1966 World Cup victory. \nJoin in the fun and games as we play sports such as boccia and mini golf\, as well as enjoying memory-prompting discussions and sports memorabilia. \n  \nTea\, coffee and biscuits will be provided. \n  \n \n  \nWho is the Sporting Memory group for? \nThe group can be attended by anyone aged 50 and over\, regardless of their condition. We have a team of staff and volunteers here to deliver a fantastic experience to everyone who attends. \n  \nCan I use the group as an opportunity to take a short break from my caring role? \nYes\, our two-hour sessions are perfect for caregivers to take a short break from their caring role by bringing the person they care for to our Sporting Memories session. \n  \nThese sessions are possible thanks to our partnership with national charity Sporting Memories. \n  \nFor more information about the group\, please contact us.
URL:https://caregiversconnectedgateshead.co.uk/event/sporting-memories-14-04-2026/
LOCATION:St Nicholas Church Hall\, Ellison Road\, Gateshead\, Dunston\, NE11 9UN\, United Kingdom
CATEGORIES:Adult Caregivers
ATTACH;FMTTYPE=image/png:https://caregiversconnectedgateshead.co.uk/wp-content/uploads/2026/01/Sporting-Memories.png
ORGANIZER;CN="Caregivers Connected Gateshead":MAILTO:info@caregiversconnectedgateshead.co.uk
END:VEVENT
END:VCALENDAR