BEGIN:VCALENDAR
VERSION:2.0
PRODID:-//Caregivers Connected Gateshead - ECPv6.15.20//NONSGML v1.0//EN
CALSCALE:GREGORIAN
METHOD:PUBLISH
X-WR-CALNAME:Caregivers Connected Gateshead
X-ORIGINAL-URL:https://caregiversconnectedgateshead.co.uk
X-WR-CALDESC:Events for Caregivers Connected Gateshead
REFRESH-INTERVAL;VALUE=DURATION:PT1H
X-Robots-Tag:noindex
X-PUBLISHED-TTL:PT1H
BEGIN:VTIMEZONE
TZID:UTC
BEGIN:STANDARD
TZOFFSETFROM:+0000
TZOFFSETTO:+0000
TZNAME:UTC
DTSTART:20230101T000000
END:STANDARD
END:VTIMEZONE
BEGIN:VEVENT
DTSTART;TZID=UTC:20241216T123000
DTEND;TZID=UTC:20241216T153000
DTSTAMP:20260423T053319
CREATED:20241203T120949Z
LAST-MODIFIED:20241203T120949Z
UID:319-1734352200-1734363000@caregiversconnectedgateshead.co.uk
SUMMARY:Caregivers Benefits Advice Drop-In: Deckham Family Hub
DESCRIPTION:Join us on Monday 16th December\, 12:30pm – 3:30pm\, for a drop-in benefits advice session at Deckham Family Hub! \nOur benefits advice worker will be here to talk to caregivers face-to-face and offer guidance around any of the following benefits; \n\nDisability Living Allowance (DLA)\nPersonal Independence Payment (PIP)\nAttendance Allowance\nCarer’s Allowance\n\nFrom having these conversations\, we can refer you in to access support around your caring role.
URL:https://caregiversconnectedgateshead.co.uk/event/caregivers-benefits-advice-drop-in-deckham-family-hub/
LOCATION:Deckham Family Hub\, Elgin Centre\, Gateshead\, NE9 5PA\, United Kingdom
CATEGORIES:Adult Caregivers
ATTACH;FMTTYPE=image/png:https://caregiversconnectedgateshead.co.uk/wp-content/uploads/2024/12/CAREGIVERS-BENEFITS-DROP-IN.png
ORGANIZER;CN="Caregivers Connected Gateshead":MAILTO:info@caregiversconnectedgateshead.co.uk
END:VEVENT
BEGIN:VEVENT
DTSTART;TZID=UTC:20241212T090000
DTEND;TZID=UTC:20241212T120000
DTSTAMP:20260423T053319
CREATED:20241203T135949Z
LAST-MODIFIED:20241203T135949Z
UID:329-1733994000-1734004800@caregiversconnectedgateshead.co.uk
SUMMARY:Male Caregivers Group: Introduction Session
DESCRIPTION:Caregivers Connected Gateshead is excited to announce the launch meeting of the male caregivers drop in! These drop in sessions will be available every second Thursday of the month at the Metrocentre Hub\, 9am – 12pm. \nThe drop-in is an informal opportunity for male caregivers to come along and have a chat with staff over a cuppa and discuss any matters that might be on their minds in relation to their caring roles. We will be able to share information about what the service is offering to caregivers and the further support available by registering with Caregivers Connected Gateshead. \n\nNo appointments needed\nSignposting to local services\nGrant information\nHealth and wellbeing resources\nOpportunities to talk\nInformation and advice on caregiver’s rights\n\nIntroduction session\nWe need your thoughts and feedback to help shape our future sessions. Please be sure to pop in\, learn more about our offer and share your ideas with us!
URL:https://caregiversconnectedgateshead.co.uk/event/male-caregivers-group-introduction-session/
LOCATION:Metrocentre Community Hub\, (upper green mall)\, Gateshead\, NE11 9YG\, United Kingdom
CATEGORIES:Adult Caregivers
ATTACH;FMTTYPE=image/png:https://caregiversconnectedgateshead.co.uk/wp-content/uploads/2024/10/Male-Carers.png
ORGANIZER;CN="Caregivers Connected Gateshead":MAILTO:info@caregiversconnectedgateshead.co.uk
END:VEVENT
BEGIN:VEVENT
DTSTART;TZID=UTC:20241209T090000
DTEND;TZID=UTC:20241209T120000
DTSTAMP:20260423T053319
CREATED:20241203T133912Z
LAST-MODIFIED:20241203T133912Z
UID:327-1733734800-1733745600@caregiversconnectedgateshead.co.uk
SUMMARY:Caregivers Benefits Advice Drop-In: Felling Family Hub
DESCRIPTION:Join us on Monday 9th December\, 9am – 12pm\, for a drop-in benefits advice session at Felling Family Hub! \nOur benefits advice worker will be here to talk to caregivers face-to-face and offer guidance around any of the following benefits; \n\nDisability Living Allowance (DLA)\nPersonal Independence Payment (PIP)\nAttendance Allowance\nCarer’s Allowance\n\nFrom having these conversations\, we can refer you in to access support around your caring role.
URL:https://caregiversconnectedgateshead.co.uk/event/caregivers-benefits-advice-drop-in-felling-family-hub/
LOCATION:Felling Family Hub\, Felling High Street\, Gateshead\, NE10 9LT\, United Kingdom
CATEGORIES:Adult Caregivers
ATTACH;FMTTYPE=image/png:https://caregiversconnectedgateshead.co.uk/wp-content/uploads/2024/11/CAREGIVERS-BENEFITS-DROP-IN.png
ORGANIZER;CN="Caregivers Connected Gateshead":MAILTO:info@caregiversconnectedgateshead.co.uk
END:VEVENT
BEGIN:VEVENT
DTSTART;TZID=UTC:20241204T130000
DTEND;TZID=UTC:20241204T150000
DTSTAMP:20260423T053319
CREATED:20241203T114611Z
LAST-MODIFIED:20241203T114611Z
UID:315-1733317200-1733324400@caregiversconnectedgateshead.co.uk
SUMMARY:Caregiver's Benefits Advice Drop-In: Leam Lane
DESCRIPTION:Join us on Wednesday 4th December\, 1pm – 3pm\, for a drop-in benefits advice session at the Leam Lane Family Hub! \nOur benefits advice worker will be here to talk to caregivers face-to-face and offer guidance around any of the following benefits; \n\nDisability Living Allowance (DLA)\nPersonal Independence Payment (PIP)\nAttendance Allowance\nCarer’s Allowance\n\nFrom having these conversations\, we can refer you in to access support around your caring role.
URL:https://caregiversconnectedgateshead.co.uk/event/caregivers-benefits-advice-drop-in-leam-lane/
LOCATION:Leam Lane Family Hub\, Leam Lane Family Hub\, Gateshead\, NE10 8QH\, United Kingdom
CATEGORIES:Adult Caregivers
ATTACH;FMTTYPE=image/png:https://caregiversconnectedgateshead.co.uk/wp-content/uploads/2024/12/CAREGIVERS-BENEFITS-DROP-IN.png
ORGANIZER;CN="Caregivers Connected Gateshead":MAILTO:info@caregiversconnectedgateshead.co.uk
END:VEVENT
BEGIN:VEVENT
DTSTART;TZID=UTC:20241121T100000
DTEND;TZID=UTC:20241121T160000
DTSTAMP:20260423T053319
CREATED:20241112T133959Z
LAST-MODIFIED:20241112T134152Z
UID:249-1732183200-1732204800@caregiversconnectedgateshead.co.uk
SUMMARY:Carers Rights Day Drop-In
DESCRIPTION:Thursday 21st of November 2024 is National Carers Rights Day! Pop into Gateshead Civic Centre and meet our team as we celebrate Carer’s Rights Day 2024. \nLearn about Carers Rights\nFrom having the right to request a Carers Assessment to Carers Leave\, we have rights and power that. Come and learn more about what rights caregivers have! \n  \nDiscover local caregiver support\nCaregivers Connected Gateshead has recently started and we’re excited to share our offer with unpaid caregivers of all ages across the borough! \n 
URL:https://caregiversconnectedgateshead.co.uk/event/carers-rights-day-drop-in-2024/
LOCATION:Gateshead Civic Centre\, Regent Terrace\, (Inside main reception)\, Gateshead\, NE8 1HH\, United Kingdom
CATEGORIES:Adult Caregivers
ATTACH;FMTTYPE=image/png:https://caregiversconnectedgateshead.co.uk/wp-content/uploads/2024/11/Carers-Rights-Day-Gateshead-Civic-Centre.png
ORGANIZER;CN="Caregivers Connected Gateshead":MAILTO:info@caregiversconnectedgateshead.co.uk
END:VEVENT
BEGIN:VEVENT
DTSTART;TZID=UTC:20241120T130000
DTEND;TZID=UTC:20241120T170000
DTSTAMP:20260423T053319
CREATED:20241031T151754Z
LAST-MODIFIED:20241106T131324Z
UID:237-1732107600-1732122000@caregiversconnectedgateshead.co.uk
SUMMARY:Christmas Crafts
DESCRIPTION:Join us at our caregivers crafts group for a free festive session as we make Christmas cards and decorations. Beginners welcome! \nWe’ll be based at the Metrocentre Community Hub (in the upper green mall)\, so be sure to pop in\, take a break from your shopping spree\, meet other local carers and make some fantastic festive crafts!
URL:https://caregiversconnectedgateshead.co.uk/event/christmas-crafts-2024/
LOCATION:Metrocentre Community Hub\, (upper green mall)\, Gateshead\, NE11 9YG\, United Kingdom
CATEGORIES:Adult Caregivers
ATTACH;FMTTYPE=image/png:https://caregiversconnectedgateshead.co.uk/wp-content/uploads/2024/10/Metrocentre-Christmas.png
ORGANIZER;CN="Caregivers Connected Gateshead":MAILTO:info@caregiversconnectedgateshead.co.uk
END:VEVENT
BEGIN:VEVENT
DTSTART;TZID=UTC:20241114T100000
DTEND;TZID=UTC:20241114T120000
DTSTAMP:20260423T053319
CREATED:20241031T132619Z
LAST-MODIFIED:20241031T133221Z
UID:224-1731578400-1731585600@caregiversconnectedgateshead.co.uk
SUMMARY:Male Caregivers Drop-In at Metrocentre
DESCRIPTION:Caregivers Connected Gateshead is excited to announce the launch meeting of the male caregivers drop in! These drop in sessions will be available every second Thursday of the month at the Metrocentre Hub\, 10am – 12pm. \nThe drop-in is an informal opportunity for male caregivers to come along and have a chat with staff over a cuppa and discuss any matters that might be on their minds in relation to their caring roles. We will be able to share information about what the service is offering to caregivers and the further support available by registering with Caregivers Connected Gateshead. \n\nNo appointments needed\nSignposting to local services\nGrant information\nHealth and wellbeing resources\nOpportunities to talk\nInformation and advice on caregiver’s rights
URL:https://caregiversconnectedgateshead.co.uk/event/male-caregivers-14-11-2024/
LOCATION:Metrocentre Community Hub\, (upper green mall)\, Gateshead\, NE11 9YG\, United Kingdom
CATEGORIES:Adult Caregivers
ATTACH;FMTTYPE=image/png:https://caregiversconnectedgateshead.co.uk/wp-content/uploads/2024/10/Male-Carers.png
ORGANIZER;CN="Caregivers Connected Gateshead":MAILTO:info@caregiversconnectedgateshead.co.uk
END:VEVENT
BEGIN:VEVENT
DTSTART;TZID=UTC:20241108T130000
DTEND;TZID=UTC:20241108T150000
DTSTAMP:20260423T053319
CREATED:20241101T151118Z
LAST-MODIFIED:20241101T151118Z
UID:241-1731070800-1731078000@caregiversconnectedgateshead.co.uk
SUMMARY:Caregiver's Benefits Advice Drop-In: Felling Hub
DESCRIPTION:Join us on Friday 8th November\, 1pm – 3pm\, for a drop-in benefits advice session at Felling Family Hub! \nOur benefits advice worker will be here to talk to caregivers face-to-face and offer guidance around any of the following benefits; \n\nDisability Living Allowance (DLA)\nPersonal Independence Payment (PIP)\nAttendance Allowance\nCarer’s Allowance\n\nFrom having these conversations\, we can refer you in to access support around your caring role.
URL:https://caregiversconnectedgateshead.co.uk/event/benefits-08-11-2024/
LOCATION:Felling Family Hub\, Felling High Street\, Gateshead\, NE10 9LT\, United Kingdom
CATEGORIES:Adult Caregivers
ATTACH;FMTTYPE=image/png:https://caregiversconnectedgateshead.co.uk/wp-content/uploads/2024/11/CAREGIVERS-BENEFITS-DROP-IN.png
ORGANIZER;CN="Caregivers Connected Gateshead":MAILTO:info@caregiversconnectedgateshead.co.uk
END:VEVENT
END:VCALENDAR