BEGIN:VCALENDAR
VERSION:2.0
PRODID:-//Caregivers Connected Gateshead - ECPv6.15.20//NONSGML v1.0//EN
CALSCALE:GREGORIAN
METHOD:PUBLISH
X-WR-CALNAME:Caregivers Connected Gateshead
X-ORIGINAL-URL:https://caregiversconnectedgateshead.co.uk
X-WR-CALDESC:Events for Caregivers Connected Gateshead
REFRESH-INTERVAL;VALUE=DURATION:PT1H
X-Robots-Tag:noindex
X-PUBLISHED-TTL:PT1H
BEGIN:VTIMEZONE
TZID:UTC
BEGIN:STANDARD
TZOFFSETFROM:+0000
TZOFFSETTO:+0000
TZNAME:UTC
DTSTART:20240101T000000
END:STANDARD
END:VTIMEZONE
BEGIN:VEVENT
DTSTART;TZID=UTC:20251202T120000
DTEND;TZID=UTC:20251202T150000
DTSTAMP:20260426T005231
CREATED:20251030T110644Z
LAST-MODIFIED:20251120T143716Z
UID:1358-1764676800-1764687600@caregiversconnectedgateshead.co.uk
SUMMARY:Tea and Tinsel Afternoon
DESCRIPTION:We’re inviting caregivers from across Gateshead to join us for a very special festive afternoon of Tea and Tinsel at the fabulous Café Under the Spire!\n  \nDate: Tuesday 2nd December 2025 \nTime: 12pm – 3pm \n  \nGet into the festive spirit\, meet our team and other local carers as we enjoy a few festive games\, music and conversations! \nA free light lunch of sandwiches\, mince pies and cakes will be provided. \n  \nWe’re ho\, ho hoping that Yule love it! 🎅 \n  \nTravelling and Parking at Café Under the Spire\nParking: Onsite car parking is available at a rate of £1 per hour. Free car parking is also available outside of the grounds. \nBus Travel: Bensham Court Flats (North Bound) bus stop is directly next to the venue. Please check the Go North East website for full details on travel via public transport. \n  \nSign up is required for this event as we have a limited number of spaces available. Please use the form below to book your free place. \n\n\n                \n                        \n                            Tea and Tinsel Booking Form\n                             \n                        \n                        Name(Required)\n                            \n                            \n                                                    \n                                                    First\n                                                \n                            \n                            \n                                                    \n                                                    Last\n                                                \n                            \n                        Phone(Required)Email\n                            \n                        Confirmation:  Please confirm that you intend to attend the session.(Required)\n								\n								I confirm that I intend to attend this session.
URL:https://caregiversconnectedgateshead.co.uk/event/tea-and-tinsel/
LOCATION:Café Under the Spire\, Derwentwater Road\, Gateshead\, NE8 2SH\, United Kingdom
CATEGORIES:Adult Caregivers
ATTACH;FMTTYPE=image/png:https://caregiversconnectedgateshead.co.uk/wp-content/uploads/2025/10/Tea-and-Tinsel.png
ORGANIZER;CN="Caregivers Connected Gateshead":MAILTO:info@caregiversconnectedgateshead.co.uk
END:VEVENT
END:VCALENDAR