BEGIN:VCALENDAR
VERSION:2.0
PRODID:-//Caregivers Connected Gateshead - ECPv6.15.20//NONSGML v1.0//EN
CALSCALE:GREGORIAN
METHOD:PUBLISH
X-ORIGINAL-URL:https://caregiversconnectedgateshead.co.uk
X-WR-CALDESC:Events for Caregivers Connected Gateshead
REFRESH-INTERVAL;VALUE=DURATION:PT1H
X-Robots-Tag:noindex
X-PUBLISHED-TTL:PT1H
BEGIN:VTIMEZONE
TZID:UTC
BEGIN:STANDARD
TZOFFSETFROM:+0000
TZOFFSETTO:+0000
TZNAME:UTC
DTSTART:20250101T000000
END:STANDARD
END:VTIMEZONE
BEGIN:VEVENT
DTSTART;TZID=UTC:20260318T110000
DTEND;TZID=UTC:20260318T120000
DTSTAMP:20260425T200855
CREATED:20260306T161546Z
LAST-MODIFIED:20260306T161546Z
UID:1673-1773831600-1773835200@caregiversconnectedgateshead.co.uk
SUMMARY:Mindfulness Taster session for Caregivers
DESCRIPTION:Take a mindful pause and reconnect with calm. Join us and The Little Company of Calm for a free\, relaxing taster session designed especially for caregivers. Discover simple mindfulness techniques to help reduce stress\, improve focus\, and support your wellbeing in everyday life. \nDates & Times: \n\n\nWednesday 18 March 2026\, 11:00am – 12:00pm\nThursday 30 April 2026\, 1:00pm – 2:00pm\n\n\nLocation:\nGateshead Library\, Wailses Room \nNo experience needed — just bring yourself and an open mind.
URL:https://caregiversconnectedgateshead.co.uk/event/mindfulness-taster-1/
LOCATION:Gateshead Library\, Prince Consort Road\, Gateshead\, NE8 4LN\, United Kingdom
CATEGORIES:Adult Caregivers
ATTACH;FMTTYPE=image/png:https://caregiversconnectedgateshead.co.uk/wp-content/uploads/2026/03/mindfulness.png
ORGANIZER;CN="Caregivers Connected Gateshead":MAILTO:info@caregiversconnectedgateshead.co.uk
END:VEVENT
BEGIN:VEVENT
DTSTART;TZID=UTC:20260318T130000
DTEND;TZID=UTC:20260318T144500
DTSTAMP:20260425T200855
CREATED:20260205T151952Z
LAST-MODIFIED:20260317T092616Z
UID:1624-1773838800-1773845100@caregiversconnectedgateshead.co.uk
SUMMARY:Parent Carers Connect - Session 3: Meeting the Parent Carer Forum + Eating Well Guide
DESCRIPTION:If you care for a child aged 0 to 25 with a disability or long-term illness\, we think you’d love our Parent Carer Connections group! \n  \nWe’re running a 5 week set of advice and information sessions for parent carers. Every Monday we will be meeting at the Metrocentre Community Hub to talk about our experiences as parent carers and find out about what services are available. We have some fantastic guest speakers joining us including the fab folks at Skills for People and AJ’s Brain. \n  \nLocation\nMetrocentre Community Hub\, NE11 9YG\, Gateshead. \nView on Google Maps \n  \nSession Schedule\nOur Parent Carer Connections sessions run weekly\, every Wednesday 1pm – 2:45pm in the Metrocentre Community Hub. The sessions are split into two halves\, the first will see our guest speakers sharing information on support services are out there for you. In the second half\, we will get talking and taking on an activity together with a comfort break in between each half. \n\n03/03/2026: Introduction Session + Financial Support\n11/03/2026:  Discovering Skills For People + Active Gateshead\n18/03/2026:  Meeting the Parent Carer Forum + Eating Well Guide\n25/03/2026: SENDIASS + Sleep Workshop\n01/04/2026: Exploring Neurodiversity with AJ’s Brain + Relaxation Tips\n\n  \nFrequently Asked Questions\nDo I need to attend all 5 sessions? To get the most out of this opportunity\, we recommend attending every session in our series. We understand that there may be times when you may unable to attend a session due to your caring role. \nCan I join if the child I care for does not have a formal diagnosis? You are more than welcome to come along if the child you care for is still waiting on a diagnosis. \nIs there any car parking available? Yes\, there is free car parking at the Metrocentre. \nWill the sessions be happening again? Yes! We hope to run these sessions again in other parts of Gateshead. \nIs this group for me? Anyone who is a parent carer is welcome to join us. If you would like to have an informal chat about the group\, please contact us. \n  \nSign-Up is essential – we have a limited number of spaces available for this set of sessions. \n  \nThis group has now reached the maximum number of bookings available. Please contact us if you are interested in attending this group.
URL:https://caregiversconnectedgateshead.co.uk/event/parent-carers-connect-session-3/
LOCATION:Metrocentre Community Hub\, (upper green mall)\, Gateshead\, NE11 9YG\, United Kingdom
CATEGORIES:Adult Caregivers
ATTACH;FMTTYPE=image/png:https://caregiversconnectedgateshead.co.uk/wp-content/uploads/2025/09/parent-carer-2-e1756716180301.png
ORGANIZER;CN="Caregivers Connected Gateshead":MAILTO:info@caregiversconnectedgateshead.co.uk
END:VEVENT
END:VCALENDAR