BEGIN:VCALENDAR
VERSION:2.0
PRODID:-//Caregivers Connected Gateshead - ECPv6.15.20//NONSGML v1.0//EN
CALSCALE:GREGORIAN
METHOD:PUBLISH
X-WR-CALNAME:Caregivers Connected Gateshead
X-ORIGINAL-URL:https://caregiversconnectedgateshead.co.uk
X-WR-CALDESC:Events for Caregivers Connected Gateshead
REFRESH-INTERVAL;VALUE=DURATION:PT1H
X-Robots-Tag:noindex
X-PUBLISHED-TTL:PT1H
BEGIN:VTIMEZONE
TZID:UTC
BEGIN:STANDARD
TZOFFSETFROM:+0000
TZOFFSETTO:+0000
TZNAME:UTC
DTSTART:20250101T000000
END:STANDARD
END:VTIMEZONE
BEGIN:VEVENT
DTSTART;TZID=UTC:20260428T130000
DTEND;TZID=UTC:20260428T153000
DTSTAMP:20260425T164822
CREATED:20260331T141449Z
LAST-MODIFIED:20260331T141507Z
UID:1761-1777381200-1777390200@caregiversconnectedgateshead.co.uk
SUMMARY:Sporting Memories Group
DESCRIPTION:Love sport? Join our Sporting Memories sessions in Dunston! \nWe offer an age-friendly and dementia-friendly session that welcomes both caregivers and the people they care for to a fun fortnightly session around reminiscing\, replaying and reconnecting with sports. \n  \nThis is a fantastic forum to chat about sport\, covering everything from the Olympic Games to England’s 1966 World Cup victory. \nJoin in the fun and games as we play sports such as boccia and mini golf\, as well as enjoying memory-prompting discussions and sports memorabilia. \n  \nTea\, coffee and biscuits will be provided. \n  \n \n  \nWho is the Sporting Memory group for? \nThe group can be attended by anyone aged 50 and over\, regardless of their condition. We have a team of staff and volunteers here to deliver a fantastic experience to everyone who attends. \n  \nCan I use the group as an opportunity to take a short break from my caring role? \nYes\, our two-hour sessions are perfect for caregivers to take a short break from their caring role by bringing the person they care for to our Sporting Memories session. \n  \nThese sessions are possible thanks to our partnership with national charity Sporting Memories. \n  \nFor more information about the group\, please contact us.
URL:https://caregiversconnectedgateshead.co.uk/event/sporting-memories-28-04-2026/
LOCATION:St Nicholas Church Hall\, Ellison Road\, Gateshead\, Dunston\, NE11 9UN\, United Kingdom
CATEGORIES:Adult Caregivers
ATTACH;FMTTYPE=image/png:https://caregiversconnectedgateshead.co.uk/wp-content/uploads/2026/01/Sporting-Memories.png
ORGANIZER;CN="Caregivers Connected Gateshead":MAILTO:info@caregiversconnectedgateshead.co.uk
END:VEVENT
BEGIN:VEVENT
DTSTART;TZID=UTC:20260430T130000
DTEND;TZID=UTC:20260430T140000
DTSTAMP:20260425T164822
CREATED:20260306T161704Z
LAST-MODIFIED:20260306T161704Z
UID:1677-1777554000-1777557600@caregiversconnectedgateshead.co.uk
SUMMARY:Mindfulness Taster session for Caregivers
DESCRIPTION:Take a mindful pause and reconnect with calm. Join us and The Little Company of Calm for a free\, relaxing taster session designed especially for caregivers. Discover simple mindfulness techniques to help reduce stress\, improve focus\, and support your wellbeing in everyday life. \nDates & Times: \n\n\nWednesday 18 March 2026\, 11:00am – 12:00pm\nThursday 30 April 2026\, 1:00pm – 2:00pm\n\n\nLocation:\nGateshead Library\, Wailses Room \nNo experience needed — just bring yourself and an open mind.
URL:https://caregiversconnectedgateshead.co.uk/event/mindfulness-taster-session-2/
LOCATION:Gateshead Library\, Prince Consort Road\, Gateshead\, NE8 4LN\, United Kingdom
CATEGORIES:Adult Caregivers
ATTACH;FMTTYPE=image/png:https://caregiversconnectedgateshead.co.uk/wp-content/uploads/2026/03/mindfulness.png
ORGANIZER;CN="Caregivers Connected Gateshead":MAILTO:info@caregiversconnectedgateshead.co.uk
END:VEVENT
BEGIN:VEVENT
DTSTART;TZID=UTC:20260513T100000
DTEND;TZID=UTC:20260513T120000
DTSTAMP:20260425T164822
CREATED:20260331T141737Z
LAST-MODIFIED:20260331T141737Z
UID:1763-1778666400-1778673600@caregiversconnectedgateshead.co.uk
SUMMARY:Carer's Coffee Morning
DESCRIPTION:Fancy a cuppa? Join us and local carers at Age UK Gateshead (on Gateshead High Street) for a fantastic coffee morning! \nAs well as tea and coffee\, there will be the opportunity to meet other caregivers and staff from Caregivers Connected Gateshead to ask any questions and seek advice. \nIf you care for someone\, we’d love to see you on the 13th May 2026 ☕
URL:https://caregiversconnectedgateshead.co.uk/event/carers-coffee-morning-may-2026/
LOCATION:Age UK – Gateshead High Street\, 215 High Street\, Gateshead\, NE8 1BX\, United Kingdom
CATEGORIES:Adult Caregivers
ATTACH;FMTTYPE=image/jpeg:https://caregiversconnectedgateshead.co.uk/wp-content/uploads/2025/09/Carers-Coffee-Morning-Group-e1762423533654.jpeg
ORGANIZER;CN="Caregivers Connected Gateshead":MAILTO:info@caregiversconnectedgateshead.co.uk
END:VEVENT
BEGIN:VEVENT
DTSTART;TZID=UTC:20260518T100000
DTEND;TZID=UTC:20260518T110000
DTSTAMP:20260425T164822
CREATED:20260116T124304Z
LAST-MODIFIED:20260119T091449Z
UID:1523-1779098400-1779102000@caregiversconnectedgateshead.co.uk
SUMMARY:Adult Caregiver's Expert Panel
DESCRIPTION:We know that caregivers we support are in the experts in what services will help them the most. We invite you to join us at our office for a cuppa and a conversation around the support you feel carers need. We call this an Expert Panel\, which is made up on adult caregivers who advice and guide us on improving our services and planning our next steps. \nThe Expert Panel meets bi-monthly to discuss the following topics; \n\nDeveloping groups and drop-ins for caregivers\nIdentifying what support adult caregivers would like from us\nWorking with Gateshead Council and the NHS to make sure caregivers are getting the support they need\nPlanning opportunities for improving our offer to all caregivers in Gateshead\nBeing a voice for adult caregivers in Gateshead\n\nWe welcome anyone who cares for someone to consider joining our Expert Panels. The Expert Panel meet at Caregiver Connected Gateshead\, 405 Aidan House\, Sunderland Road\, NE8 3HU. Time: 10am- 11am
URL:https://caregiversconnectedgateshead.co.uk/event/adult-expert-panel-may-2026/
LOCATION:Caregivers Connected Gateshead\, Room 405 Aidan House\, Gateshead\, NE8 3HU\, United Kingdom
CATEGORIES:Adult Caregivers
ATTACH;FMTTYPE=image/png:https://caregiversconnectedgateshead.co.uk/wp-content/uploads/2026/01/Expert-Panel.png
ORGANIZER;CN="Caregivers Connected Gateshead":MAILTO:info@caregiversconnectedgateshead.co.uk
END:VEVENT
BEGIN:VEVENT
DTSTART;TZID=UTC:20260921T100000
DTEND;TZID=UTC:20260921T110000
DTSTAMP:20260425T164822
CREATED:20260116T125524Z
LAST-MODIFIED:20260116T125524Z
UID:1526-1789984800-1789988400@caregiversconnectedgateshead.co.uk
SUMMARY:Adult Caregiver's Expert Panel
DESCRIPTION:We know that caregivers we support are in the experts in what services will help them the most. We invite you to join us at our office for a cuppa and a conversation around the support you feel carers need. We call this an Expert Panel\, which is made up on adult caregivers who advice and guide us on improving our services and planning our next steps. \nThe Expert Panel meets bi-monthly to discuss the following topics; \n\nDeveloping groups and drop-ins for caregivers\nIdentifying what support adult caregivers would like from us\nWorking with Gateshead Council and the NHS to make sure caregivers are getting the support they need\nPlanning opportunities for improving our offer to all caregivers in Gateshead\nBeing a voice for adult caregivers in Gateshead\n\nWe welcome anyone who cares for someone to consider joining our Expert Panels. The Expert Panel meet at Caregiver Connected Gateshead\, 405 Aidan House\, Sunderland Road\, NE8 3HU. Time: 10am- 11am
URL:https://caregiversconnectedgateshead.co.uk/event/adult-expert-panel-sept-2026/
LOCATION:Caregivers Connected Gateshead\, Room 405 Aidan House\, Gateshead\, NE8 3HU\, United Kingdom
CATEGORIES:Adult Caregivers
ATTACH;FMTTYPE=image/png:https://caregiversconnectedgateshead.co.uk/wp-content/uploads/2026/01/Expert-Panel.png
ORGANIZER;CN="Caregivers Connected Gateshead":MAILTO:info@caregiversconnectedgateshead.co.uk
END:VEVENT
BEGIN:VEVENT
DTSTART;TZID=UTC:20261116T100000
DTEND;TZID=UTC:20261116T110000
DTSTAMP:20260425T164822
CREATED:20260116T125755Z
LAST-MODIFIED:20260116T125913Z
UID:1529-1794823200-1794826800@caregiversconnectedgateshead.co.uk
SUMMARY:Adult Caregiver's Expert Panel
DESCRIPTION:We know that caregivers we support are in the experts in what services will help them the most. We invite you to join us at our office for a cuppa and a conversation around the support you feel carers need. We call this an Expert Panel\, which is made up on adult caregivers who advice and guide us on improving our services and planning our next steps. \nThe Expert Panel meets bi-monthly to discuss the following topics; \n\nDeveloping groups and drop-ins for caregivers\nIdentifying what support adult caregivers would like from us\nWorking with Gateshead Council and the NHS to make sure caregivers are getting the support they need\nPlanning opportunities for improving our offer to all caregivers in Gateshead\nBeing a voice for adult caregivers in Gateshead\n\nWe welcome anyone who cares for someone to consider joining our Expert Panels. The Expert Panel meet at Caregiver Connected Gateshead\, 405 Aidan House\, Sunderland Road\, NE8 3HU. Time: 10am- 11am
URL:https://caregiversconnectedgateshead.co.uk/event/adult-expert-panel-nov-2026/
LOCATION:Caregivers Connected Gateshead\, Room 405 Aidan House\, Gateshead\, NE8 3HU\, United Kingdom
CATEGORIES:Adult Caregivers
ATTACH;FMTTYPE=image/png:https://caregiversconnectedgateshead.co.uk/wp-content/uploads/2026/01/Expert-Panel.png
ORGANIZER;CN="Caregivers Connected Gateshead":MAILTO:info@caregiversconnectedgateshead.co.uk
END:VEVENT
END:VCALENDAR