BEGIN:VCALENDAR
VERSION:2.0
PRODID:-//Caregivers Connected Gateshead - ECPv6.15.20//NONSGML v1.0//EN
CALSCALE:GREGORIAN
METHOD:PUBLISH
X-ORIGINAL-URL:https://caregiversconnectedgateshead.co.uk
X-WR-CALDESC:Events for Caregivers Connected Gateshead
REFRESH-INTERVAL;VALUE=DURATION:PT1H
X-Robots-Tag:noindex
X-PUBLISHED-TTL:PT1H
BEGIN:VTIMEZONE
TZID:UTC
BEGIN:STANDARD
TZOFFSETFROM:+0000
TZOFFSETTO:+0000
TZNAME:UTC
DTSTART:20240101T000000
END:STANDARD
END:VTIMEZONE
BEGIN:VEVENT
DTSTART;TZID=UTC:20250702T130000
DTEND;TZID=UTC:20250702T150000
DTSTAMP:20260426T011310
CREATED:20250701T144949Z
LAST-MODIFIED:20250701T144949Z
UID:1017-1751461200-1751468400@caregiversconnectedgateshead.co.uk
SUMMARY:Caregiver Benefits Advice: Leam Lane
DESCRIPTION:Join us on Wednesday 2nd July\, 1pm – 3pm\, for a drop-in benefits advice session at the Leam Lane Family Hub! \nOur benefits advice worker will be here to talk to caregivers face-to-face and offer advice and information around any of the following benefits and applying for them; \n\nDisability Living Allowance (DLA)\nPersonal Independence Payment (PIP)\nAttendance Allowance\nCarer’s Allowance\n\nFrom having these conversations\, we can also refer you in to our services to access support around your caring role. \nAs this is a drop-in style session\, no sign-up is required; please be sure to pop along at any time between 1pm – 3pm.
URL:https://caregiversconnectedgateshead.co.uk/event/caregiver-benefits-advice-leam-lane-july/
LOCATION:Leam Lane Family Hub\, Leam Lane Family Hub\, Gateshead\, NE10 8QH\, United Kingdom
CATEGORIES:Adult Caregivers
ATTACH;FMTTYPE=image/png:https://caregiversconnectedgateshead.co.uk/wp-content/uploads/2024/12/CAREGIVERS-BENEFITS-DROP-IN.png
ORGANIZER;CN="Caregivers Connected Gateshead":MAILTO:info@caregiversconnectedgateshead.co.uk
END:VEVENT
BEGIN:VEVENT
DTSTART;TZID=UTC:20250707T130000
DTEND;TZID=UTC:20250707T160000
DTSTAMP:20260426T011310
CREATED:20250604T150217Z
LAST-MODIFIED:20250604T150217Z
UID:911-1751893200-1751904000@caregiversconnectedgateshead.co.uk
SUMMARY:Crafted with Care
DESCRIPTION:Join us in the Metrocentre Community Hub for a fantastic crafternoon! Our Crafted with Care group gives local caregivers a chance to meet\, chat and make some fab craft pieces to take home. \nEvery session is designed to give caregivers a short break from their caring role\, while making new friends and learning new arts and crafts skills. \nIf you’re caring for a friend or family member\, we’d love to see you at our session! \nBeginners welcome! This is a drop-in session so please do pop in and stay for as long as you’d like.
URL:https://caregiversconnectedgateshead.co.uk/event/crafted-july-2025/
LOCATION:Metrocentre Community Hub\, (upper green mall)\, Gateshead\, NE11 9YG\, United Kingdom
CATEGORIES:Adult Caregivers
ATTACH;FMTTYPE=image/png:https://caregiversconnectedgateshead.co.uk/wp-content/uploads/2025/02/Crafted-with-Care-header.png
ORGANIZER;CN="Caregivers Connected Gateshead":MAILTO:info@caregiversconnectedgateshead.co.uk
END:VEVENT
BEGIN:VEVENT
DTSTART;TZID=UTC:20250709T100000
DTEND;TZID=UTC:20250709T120000
DTSTAMP:20260426T011310
CREATED:20250701T145313Z
LAST-MODIFIED:20250701T145313Z
UID:1019-1752055200-1752062400@caregiversconnectedgateshead.co.uk
SUMMARY:Carer's Coffee Morning
DESCRIPTION:Fancy a cuppa? Join us and local carers at Age UK Gateshead (on Gateshead High Street) for a fantastic coffee morning! \nAs well as tea and coffee\, there will be the opportunity to meet other caregivers and staff from Caregivers Connected Gateshead to ask any questions and seek advice. \nIf you care for someone\, we’d love to see you on the 9th July 2025.
URL:https://caregiversconnectedgateshead.co.uk/event/carers-coffee-morning/
LOCATION:Age UK – Gateshead High Street\, 215 High Street\, Gateshead\, NE8 1BX\, United Kingdom
CATEGORIES:Adult Caregivers
ATTACH;FMTTYPE=image/png:https://caregiversconnectedgateshead.co.uk/wp-content/uploads/2025/03/Coffee-Morning.png
ORGANIZER;CN="Caregivers Connected Gateshead":MAILTO:info@caregiversconnectedgateshead.co.uk
END:VEVENT
BEGIN:VEVENT
DTSTART;TZID=UTC:20250714T090000
DTEND;TZID=UTC:20250714T120000
DTSTAMP:20260426T011310
CREATED:20250701T151714Z
LAST-MODIFIED:20250701T151714Z
UID:1021-1752483600-1752494400@caregiversconnectedgateshead.co.uk
SUMMARY:Caregiver Benefits Advice: Felling Family Hub
DESCRIPTION:Join us on Monday 14th July\, 9am – 12pm\, for a drop-in benefits advice session at the Felling Family Hub! \nOur benefits advice worker will be here to talk to caregivers face-to-face and offer advice and information around any of the following benefits and applying for them; \n\nDisability Living Allowance (DLA)\nPersonal Independence Payment (PIP)\nAttendance Allowance\nCarer’s Allowance\n\nFrom having these conversations\, we can also refer you in to our services to access support around your caring role. \nAs this is a drop-in style session\, no sign-up is required; please be sure to pop along at any time between 9am – 12pm.
URL:https://caregiversconnectedgateshead.co.uk/event/caregiver-benefits-advice-felling-family-hub-july/
LOCATION:Felling Family Hub\, Felling High Street\, Gateshead\, NE10 9LT\, United Kingdom
CATEGORIES:Adult Caregivers
ATTACH;FMTTYPE=image/png:https://caregiversconnectedgateshead.co.uk/wp-content/uploads/2024/12/CAREGIVERS-BENEFITS-DROP-IN.png
ORGANIZER;CN="Caregivers Connected Gateshead":MAILTO:info@caregiversconnectedgateshead.co.uk
END:VEVENT
END:VCALENDAR