BEGIN:VCALENDAR
VERSION:2.0
PRODID:-//Caregivers Connected Gateshead - ECPv6.15.20//NONSGML v1.0//EN
CALSCALE:GREGORIAN
METHOD:PUBLISH
X-WR-CALNAME:Caregivers Connected Gateshead
X-ORIGINAL-URL:https://caregiversconnectedgateshead.co.uk
X-WR-CALDESC:Events for Caregivers Connected Gateshead
REFRESH-INTERVAL;VALUE=DURATION:PT1H
X-Robots-Tag:noindex
X-PUBLISHED-TTL:PT1H
BEGIN:VTIMEZONE
TZID:UTC
BEGIN:STANDARD
TZOFFSETFROM:+0000
TZOFFSETTO:+0000
TZNAME:UTC
DTSTART:20240101T000000
END:STANDARD
END:VTIMEZONE
BEGIN:VEVENT
DTSTART;TZID=UTC:20250804T130000
DTEND;TZID=UTC:20250804T160000
DTSTAMP:20260425T233538
CREATED:20250716T115039Z
LAST-MODIFIED:20250716T115039Z
UID:1042-1754312400-1754323200@caregiversconnectedgateshead.co.uk
SUMMARY:Crafted with Care
DESCRIPTION:Join us in the Metrocentre Community Hub for a fantastic crafternoon! Our Crafted with Care group gives local caregivers a chance to meet\, chat and make some fab craft pieces to take home. \nEvery session is designed to give caregivers a short break from their caring role\, while making new friends and learning new arts and crafts skills. \nIf you’re caring for a friend or family member\, we’d love to see you at our session! \nBeginners welcome! This is a drop-in session so please do pop in and stay for as long as you’d like.
URL:https://caregiversconnectedgateshead.co.uk/event/crafted-with-care/
LOCATION:Metrocentre Community Hub\, (upper green mall)\, Gateshead\, NE11 9YG\, United Kingdom
CATEGORIES:Adult Caregivers
ATTACH;FMTTYPE=image/png:https://caregiversconnectedgateshead.co.uk/wp-content/uploads/2025/02/Crafted-with-Care-header.png
ORGANIZER;CN="Caregivers Connected Gateshead":MAILTO:info@caregiversconnectedgateshead.co.uk
END:VEVENT
BEGIN:VEVENT
DTSTART;TZID=UTC:20250813T100000
DTEND;TZID=UTC:20250813T120000
DTSTAMP:20260425T233538
CREATED:20250709T125938Z
LAST-MODIFIED:20250813T084640Z
UID:1035-1755079200-1755086400@caregiversconnectedgateshead.co.uk
SUMMARY:Carer's Coffee Morning
DESCRIPTION:Fancy a cuppa? Join us and local carers at Age UK Gateshead (on Gateshead High Street) for a fantastic coffee morning! \nAs well as tea and coffee\, there will be the opportunity to meet other caregivers and staff from Caregivers Connected Gateshead to ask any questions and seek advice. \nIf you care for someone\, we’d love to see you on the 13th August 2025.
URL:https://caregiversconnectedgateshead.co.uk/event/carers-coffee-morning-august/
LOCATION:Age UK – Gateshead High Street\, 215 High Street\, Gateshead\, NE8 1BX\, United Kingdom
CATEGORIES:Adult Caregivers
ATTACH;FMTTYPE=image/png:https://caregiversconnectedgateshead.co.uk/wp-content/uploads/2025/08/Crafted-with-Care-Group.png
ORGANIZER;CN="Caregivers Connected Gateshead":MAILTO:info@caregiversconnectedgateshead.co.uk
END:VEVENT
BEGIN:VEVENT
DTSTART;TZID=UTC:20250829T110000
DTEND;TZID=UTC:20250829T133000
DTSTAMP:20260425T233538
CREATED:20250718T110709Z
LAST-MODIFIED:20250718T110906Z
UID:1046-1756465200-1756474200@caregiversconnectedgateshead.co.uk
SUMMARY:Male Caregivers Group
DESCRIPTION:Join us in the Tilly Stone for a session filled with of laughs\, chats and good company! \nThe Male Caregivers group gives local guys who care for a loved one a chance to meet other caregivers\, have a brew and enjoy some time away from the caring role. \n  \nThis session will also be planning session\, giving you the opportunity to help us decide on the direction of the group including\, what activities we could do and where you’d like to go. \n  \nIf you’re caring for a friend or family member\, we think it would be great to see you at our session! \n  \nFriday 29th August 2025\, 11am – 12:30pm\, at Staiths Café\, Dunston.
URL:https://caregiversconnectedgateshead.co.uk/event/male-caregivers-group-august/
LOCATION:Tilly Stone\, 10 Jackson Street\, Gateshead\, NE8 1EE\, United Kingdom
CATEGORIES:Adult Caregivers
ATTACH;FMTTYPE=image/png:https://caregiversconnectedgateshead.co.uk/wp-content/uploads/2025/07/Mens-Group.png
ORGANIZER;CN="Caregivers Connected Gateshead":MAILTO:info@caregiversconnectedgateshead.co.uk
END:VEVENT
END:VCALENDAR