BEGIN:VCALENDAR
VERSION:2.0
PRODID:-//Caregivers Connected Gateshead - ECPv6.15.20//NONSGML v1.0//EN
CALSCALE:GREGORIAN
METHOD:PUBLISH
X-ORIGINAL-URL:https://caregiversconnectedgateshead.co.uk
X-WR-CALDESC:Events for Caregivers Connected Gateshead
REFRESH-INTERVAL;VALUE=DURATION:PT1H
X-Robots-Tag:noindex
X-PUBLISHED-TTL:PT1H
BEGIN:VTIMEZONE
TZID:UTC
BEGIN:STANDARD
TZOFFSETFROM:+0000
TZOFFSETTO:+0000
TZNAME:UTC
DTSTART:20250101T000000
END:STANDARD
END:VTIMEZONE
BEGIN:VEVENT
DTSTART;TZID=UTC:20260202T130000
DTEND;TZID=UTC:20260202T150000
DTSTAMP:20260425T134739
CREATED:20251205T090033Z
LAST-MODIFIED:20251205T090134Z
UID:1420-1770037200-1770044400@caregiversconnectedgateshead.co.uk
SUMMARY:Crafted with Care
DESCRIPTION:Join us in the Metrocentre Community Hub for a fantastic crafternoon! Our Crafted with Care group gives local caregivers a chance to meet\, chat and make some fab craft pieces to take home. \nEvery session is designed to give caregivers a short break from their caring role\, while making new friends and learning new arts and crafts skills. \n  \nThis month’s session with focus on the theme of “love yourself” and plans to bring together a selection of crafts with a hint of mindfulness. \n  \nIf you’re caring for a friend or family member\, we’d love to see you at our session! \nBeginners welcome! This is a drop-in session so please do pop in and stay for as long as you’d like. Please be sure to bring your own refreshments to the session.
URL:https://caregiversconnectedgateshead.co.uk/event/crafted-with-care-feb-2026/
LOCATION:Metrocentre Community Hub\, (upper green mall)\, Gateshead\, NE11 9YG\, United Kingdom
CATEGORIES:Adult Caregivers
ATTACH;FMTTYPE=image/png:https://caregiversconnectedgateshead.co.uk/wp-content/uploads/2024/12/Crafted-with-Care.png
ORGANIZER;CN="Caregivers Connected Gateshead":MAILTO:info@caregiversconnectedgateshead.co.uk
END:VEVENT
BEGIN:VEVENT
DTSTART;TZID=UTC:20260211T100000
DTEND;TZID=UTC:20260211T120000
DTSTAMP:20260425T134739
CREATED:20260114T112822Z
LAST-MODIFIED:20260114T112910Z
UID:1494-1770804000-1770811200@caregiversconnectedgateshead.co.uk
SUMMARY:Carer's Coffee Morning
DESCRIPTION:Fancy a cuppa? Join us and local carers at Age UK Gateshead (on Gateshead High Street) for a fantastic coffee morning! \nAs well as tea and coffee\, there will be the opportunity to meet other caregivers and staff from Caregivers Connected Gateshead to ask any questions and seek advice. \nIf you care for someone\, we’d love to see you on the 11th February 2026 ☕
URL:https://caregiversconnectedgateshead.co.uk/event/carers-coffee-morning-feb-2026/
LOCATION:Age UK – Gateshead High Street\, 215 High Street\, Gateshead\, NE8 1BX\, United Kingdom
CATEGORIES:Adult Caregivers
ATTACH;FMTTYPE=image/jpeg:https://caregiversconnectedgateshead.co.uk/wp-content/uploads/2025/09/Carers-Coffee-Morning-Group-e1762423533654.jpeg
ORGANIZER;CN="Caregivers Connected Gateshead":MAILTO:info@caregiversconnectedgateshead.co.uk
END:VEVENT
BEGIN:VEVENT
DTSTART;TZID=UTC:20260220T133000
DTEND;TZID=UTC:20260220T153000
DTSTAMP:20260425T134739
CREATED:20260114T115718Z
LAST-MODIFIED:20260114T115718Z
UID:1501-1771594200-1771601400@caregiversconnectedgateshead.co.uk
SUMMARY:Benefits Advice Drop-In - Blaydon
DESCRIPTION:Join us on Friday 20th February\, 1:30pm – 3:30pm\, for a drop-in benefits advice session at the Blaydon Family Hub! \nOur benefits advice worker will be here to talk to caregivers face-to-face and offer advice and information around any of the following benefits and applying for them; \n\nDisability Living Allowance (DLA)\nPersonal Independence Payment (PIP)\nAttendance Allowance\nCarer’s Allowance\n\nFrom having these conversations\, we can also refer you in to our services to access support around your caring role. \nAs this is a drop-in style session\, no sign-up is required; please be sure to pop along at any time between 1:30pm – 3:30pm.
URL:https://caregiversconnectedgateshead.co.uk/event/benefits-advice-feb-2026/
LOCATION:Blaydon Winlaton Family Hub\, Blaydon Winlaton Family Hub\, Gateshead\, NE21 5EZ\, United Kingdom
CATEGORIES:Adult Caregivers
ATTACH;FMTTYPE=image/png:https://caregiversconnectedgateshead.co.uk/wp-content/uploads/2024/12/CAREGIVERS-BENEFITS-DROP-IN.png
ORGANIZER;CN="Caregivers Connected Gateshead":MAILTO:info@caregiversconnectedgateshead.co.uk
END:VEVENT
END:VCALENDAR