BEGIN:VCALENDAR
VERSION:2.0
PRODID:-//Caregivers Connected Gateshead - ECPv6.15.20//NONSGML v1.0//EN
CALSCALE:GREGORIAN
METHOD:PUBLISH
X-WR-CALNAME:Caregivers Connected Gateshead
X-ORIGINAL-URL:https://caregiversconnectedgateshead.co.uk
X-WR-CALDESC:Events for Caregivers Connected Gateshead
REFRESH-INTERVAL;VALUE=DURATION:PT1H
X-Robots-Tag:noindex
X-PUBLISHED-TTL:PT1H
BEGIN:VTIMEZONE
TZID:UTC
BEGIN:STANDARD
TZOFFSETFROM:+0000
TZOFFSETTO:+0000
TZNAME:UTC
DTSTART:20240101T000000
END:STANDARD
END:VTIMEZONE
BEGIN:VEVENT
DTSTART;TZID=UTC:20250609T090000
DTEND;TZID=UTC:20250609T120000
DTSTAMP:20260426T043246
CREATED:20250527T145703Z
LAST-MODIFIED:20250527T145703Z
UID:876-1749459600-1749470400@caregiversconnectedgateshead.co.uk
SUMMARY:Caregiver Benefits Advice: Felling Family Hub
DESCRIPTION:Join us on Monday 9th June\, 9am – 12pm\, for a drop-in benefits advice session at the Felling Family Hub! \nOur benefits advice worker will be here to talk to caregivers face-to-face and offer advice and information around any of the following benefits and applying for them; \n\nDisability Living Allowance (DLA)\nPersonal Independence Payment (PIP)\nAttendance Allowance\nCarer’s Allowance\n\nFrom having these conversations\, we can also refer you in to our services to access support around your caring role. \nAs this is a drop-in style session\, no sign-up is required; please be sure to pop along at any time between 9am – 12pm.
URL:https://caregiversconnectedgateshead.co.uk/event/caregiver-benefits-advice-felling-family-hub-june/
LOCATION:Felling Family Hub\, Felling High Street\, Gateshead\, NE10 9LT\, United Kingdom
CATEGORIES:Adult Caregivers
ATTACH;FMTTYPE=image/png:https://caregiversconnectedgateshead.co.uk/wp-content/uploads/2024/12/CAREGIVERS-BENEFITS-DROP-IN.png
ORGANIZER;CN="Caregivers Connected Gateshead":MAILTO:info@caregiversconnectedgateshead.co.uk
END:VEVENT
BEGIN:VEVENT
DTSTART;TZID=UTC:20250609T100000
DTEND;TZID=UTC:20250609T120000
DTSTAMP:20260426T043246
CREATED:20250516T140316Z
LAST-MODIFIED:20250519T100346Z
UID:851-1749463200-1749470400@caregiversconnectedgateshead.co.uk
SUMMARY:Carers Week Cuppa
DESCRIPTION:Join us in celebrating National Carers Week 2025 by popping in for a cuppa with caregivers from across the borough! \nWe’ll also be joined by lots of our friends from local support services\, including; \n☆ Age UK Gateshead \n☆ Alzheimer’s Society \n☆ Health Works Newcastle \n☆ NHS Social Prescribing \n☆ Dementia Groups \n☆ Parent Carer Forum
URL:https://caregiversconnectedgateshead.co.uk/event/carers-week-cuppa/
LOCATION:St Joseph’s Church\, (next to Gateshead Interchange)\, Gateshead\, NE8 1HE
CATEGORIES:Adult Caregivers
ATTACH;FMTTYPE=image/jpeg:https://caregiversconnectedgateshead.co.uk/wp-content/uploads/2025/05/coffee-morning.jpg
ORGANIZER;CN="Caregivers Connected Gateshead":MAILTO:info@caregiversconnectedgateshead.co.uk
END:VEVENT
END:VCALENDAR